BEGIN:VCALENDAR
VERSION:2.0
PRODID:-//Nok. Oslo - ECPv6.15.20//NONSGML v1.0//EN
CALSCALE:GREGORIAN
METHOD:PUBLISH
X-WR-CALNAME:Nok. Oslo
X-ORIGINAL-URL:https://nokoslo.no
X-WR-CALDESC:Arrangement for Nok. Oslo
REFRESH-INTERVAL;VALUE=DURATION:PT1H
X-Robots-Tag:noindex
X-PUBLISHED-TTL:PT1H
BEGIN:VTIMEZONE
TZID:Europe/Oslo
BEGIN:DAYLIGHT
TZOFFSETFROM:+0100
TZOFFSETTO:+0200
TZNAME:CEST
DTSTART:20250330T010000
END:DAYLIGHT
BEGIN:STANDARD
TZOFFSETFROM:+0200
TZOFFSETTO:+0100
TZNAME:CET
DTSTART:20251026T010000
END:STANDARD
BEGIN:DAYLIGHT
TZOFFSETFROM:+0100
TZOFFSETTO:+0200
TZNAME:CEST
DTSTART:20260329T010000
END:DAYLIGHT
BEGIN:STANDARD
TZOFFSETFROM:+0200
TZOFFSETTO:+0100
TZNAME:CET
DTSTART:20261025T010000
END:STANDARD
BEGIN:DAYLIGHT
TZOFFSETFROM:+0100
TZOFFSETTO:+0200
TZNAME:CEST
DTSTART:20270328T010000
END:DAYLIGHT
BEGIN:STANDARD
TZOFFSETFROM:+0200
TZOFFSETTO:+0100
TZNAME:CET
DTSTART:20271031T010000
END:STANDARD
END:VTIMEZONE
BEGIN:VEVENT
DTSTART;TZID=Europe/Oslo:20260413T130000
DTEND;TZID=Europe/Oslo:20260413T200000
DTSTAMP:20260425T153423
CREATED:20251209T124552Z
LAST-MODIFIED:20251216T125709Z
UID:12864-1776085200-1776110400@nokoslo.no
SUMMARY:Åpent hus
DESCRIPTION:Velkommen til åpent hus på mandager  \nÅpent hus er en mulighet for sosialt fellesskap med andre brukere\, enten du ble utsatt for overgrep i barndommen eller er pårørende til en som ble utsatt. Det serveres kaffe og te\, og det er alltid en ansatt tilgjengelig for besøkende på åpent hus.  \nÅpent hus en arena hvor du kan treffe andre i en liknende situasjon som deg\, for erfaringsutveksling og håp. Her møter du gjensidig hjelp og støtte. På åpent hus snakker vi ikke om overgrep i detalj. Ved behov kan dette gjøres i samtale med en faglig veileder på et senere tidspunkt. \nUnder åpent hus er du velkommen til å benytte deg av musikkrommet\, låne bøker fra bokhyllene\, eller ta i bruk vårt utvalg av brettspill og hobbyutstyr. Ta kontakt med dagens åpent hus-ansvarlig\, så vil vedkommende hjelpe deg.  \nVarmt velkommen til Nok. Oslo!  \n  \n\n  \nHar du spørsmål om tilbudene våre? Trenger du noen å snakke med?  \nBle du utsatt for seksuelle overgrep i barndommen? Er du forelder/foresatt\, partner\, familiemedlem eller en annen viktig person i en utsatt sitt liv? Ta gjerne kontakt for samtaler og familiesamtaler på senteret\, over telefon eller digitalt på teams.  \nKontakt oss på epost post@nokoslo.no eller telefon 23 31 46 50.  \nVi er her. 
URL:https://nokoslo.no/arrangement/apent-hus-122/2026-04-13/
LOCATION:Nok. Oslo\, Akersgata 1\, Oslo\, 0158\, Norge
ATTACH;FMTTYPE=image/jpeg:https://nokoslo.no/wp-content/uploads/sites/7/2024/04/Apent-hus.jpg
END:VEVENT
BEGIN:VEVENT
DTSTART;TZID=Europe/Oslo:20260413T170000
DTEND;TZID=Europe/Oslo:20260413T183000
DTSTAMP:20260425T153423
CREATED:20260225T094903Z
LAST-MODIFIED:20260225T094903Z
UID:13027-1776099600-1776105000@nokoslo.no
SUMMARY:Temakveld: Livet er for kort
DESCRIPTION:Velkommen til temakveld med Astrid Mona Evju Witlam\, forfatteren bak boken «Livet er for kort til å skamme seg over traumer» \nDenne kvelden vil vi få møte en kvinne som med stor åpenhet og klokskap deler fra sitt 75 år lange liv. Et liv som har rommet både smerte og håp. Hun vil dele av erfaringer med overgrep\, ulykker\, skilsmisse og tap av arbeid\, men også om de små og store lyspunktene som ga henne styrke og mot til å fortsette.  \nHistorien handler om å finne veien tilbake til lyset når mørket føles altoppslukende og om en transformasjon fra larve til sommerfugl. Som hun selv sier: Ingen er født sommerfugler.  \nGjennom ærlige refleksjoner viser hun at det aldri er for sent å skape endring\, velge seg selv\, og gi slipp på det som holder oss tilbake. Vi håper denne kvelden kan gi rom for inspirasjon\, refleksjon og håp.  \nDet vil etter innlegget være rom for spørsmål og en felles prat for dem som ønsker det.  \nVi ønsker senterets brukere\, både utsatte og pårørende\, velkommen til temakveld hos oss. Om du ønsker å delta\, må du sende en påmelding innen tirsdag 7. april til epost post@nokoslo.no eller telefon 23 31 46 50.   \n  \n\n  \nHar du spørsmål om tilbudene våre? Trenger du noen å snakke med?   \nBle du utsatt for seksuelle overgrep i barndommen? Er du forelder/foresatt\, partner\, familiemedlem eller en annen viktig person i en utsatt sitt liv? Ta gjerne kontakt for samtaler og familiesamtaler på senteret\, over telefon eller digitalt på teams.   \nKontakt oss på epost post@nokoslo.no eller telefon 23 31 46 50.   \nVi er her. 
URL:https://nokoslo.no/arrangement/temakveld-livet-er-for-kort/
LOCATION:Nok. Oslo\, Akersgata 1\, Oslo\, 0158\, Norge
ATTACH;FMTTYPE=image/png:https://nokoslo.no/wp-content/uploads/sites/7/2026/02/Temakveld-13.04.26-kalender.png
END:VEVENT
BEGIN:VEVENT
DTSTART;TZID=Europe/Oslo:20260413T170000
DTEND;TZID=Europe/Oslo:20260413T190000
DTSTAMP:20260425T153423
CREATED:20251208T083106Z
LAST-MODIFIED:20251208T083106Z
UID:12673-1776099600-1776106800@nokoslo.no
SUMMARY:Pårørendegruppe
DESCRIPTION:Velkommen til gruppe for pårørende \nGruppetilbudet passer for deg som er søsken\, partner\, tante\, onkel\, venninne eller venn til en som er utsatt for seksuelle overgrep før fylte 18 år. Det er faglige veiledere Tina og Mina som vil lede gruppen. \nDersom du er forelder\, foresatt eller fosterforelder til noen utsatt for seksuelle overgrep så har vi en egen gruppe for dette også. Les mer om denne gruppen her. \nGruppen møtes følgende mandager:\n2. februar\n16. mars\n13. april\n11. mai\n8. juni \nVed påmelding melder du deg på gruppen for hele halvåret\, men det er en åpen gruppe med løpende opptak. Vi ønsker å gjennomføre en samtale i forkant av at du blir med i gruppen. Dersom du har spørsmål rundt tilbudet eller lurer på om dette er noe for deg\, ta kontakt på epost post@nokoslo.no eller telefon 23 31 46 50. \n  \n\n  \nHar du spørsmål om tilbudene våre? Trenger du noen å snakke med?  \nBle du utsatt for seksuelle overgrep i barndommen? Er du forelder/foresatt\, partner\, familiemedlem eller en annen viktig person i en utsatt sitt liv? Ta gjerne kontakt for samtaler og familiesamtaler på senteret\, over telefon eller digitalt på teams.  \nKontakt oss på epost post@nokoslo.no eller telefon 23 31 46 50.  \nVi er her. 
URL:https://nokoslo.no/arrangement/parorendegruppe-6/2026-04-13/
LOCATION:Nok. Oslo\, Akersgata 1\, Oslo\, 0158\, Norge
ATTACH;FMTTYPE=image/jpeg:https://nokoslo.no/wp-content/uploads/sites/7/2024/03/ung-gutt-sol-natur.jpg
END:VEVENT
END:VCALENDAR