BEGIN:VCALENDAR
VERSION:2.0
PRODID:-//Nok. Oslo - ECPv6.15.20//NONSGML v1.0//EN
CALSCALE:GREGORIAN
METHOD:PUBLISH
X-WR-CALNAME:Nok. Oslo
X-ORIGINAL-URL:https://nokoslo.no
X-WR-CALDESC:Arrangement for Nok. Oslo
REFRESH-INTERVAL;VALUE=DURATION:PT1H
X-Robots-Tag:noindex
X-PUBLISHED-TTL:PT1H
BEGIN:VTIMEZONE
TZID:Europe/Oslo
BEGIN:DAYLIGHT
TZOFFSETFROM:+0100
TZOFFSETTO:+0200
TZNAME:CEST
DTSTART:20250330T010000
END:DAYLIGHT
BEGIN:STANDARD
TZOFFSETFROM:+0200
TZOFFSETTO:+0100
TZNAME:CET
DTSTART:20251026T010000
END:STANDARD
BEGIN:DAYLIGHT
TZOFFSETFROM:+0100
TZOFFSETTO:+0200
TZNAME:CEST
DTSTART:20260329T010000
END:DAYLIGHT
BEGIN:STANDARD
TZOFFSETFROM:+0200
TZOFFSETTO:+0100
TZNAME:CET
DTSTART:20261025T010000
END:STANDARD
BEGIN:DAYLIGHT
TZOFFSETFROM:+0100
TZOFFSETTO:+0200
TZNAME:CEST
DTSTART:20270328T010000
END:DAYLIGHT
BEGIN:STANDARD
TZOFFSETFROM:+0200
TZOFFSETTO:+0100
TZNAME:CET
DTSTART:20271031T010000
END:STANDARD
END:VTIMEZONE
BEGIN:VEVENT
DTSTART;TZID=Europe/Oslo:20260414T121500
DTEND;TZID=Europe/Oslo:20260414T141500
DTSTAMP:20260425T135750
CREATED:20251202T094508Z
LAST-MODIFIED:20251202T094508Z
UID:12616-1776168900-1776176100@nokoslo.no
SUMMARY:Badstue
DESCRIPTION:Bli med på badstue \nAmina og Mina inviterer til badstue. Vi vil booke en av Oslo badstuforenings badstuer på Sukkerbiten og inviterer brukere av senteret til å bli med. Dette gjelder om du allerede er badstueentusiast eller om du bare er nysgjerrig på om dette kan være noe for deg. Vi har badstuetid\, inkludert skifting\, fra kl 12:15 til 14:15. Oppmøte utenfor badstuene kl 12:15. Om du er ny til tilbudet kan du også møte oss utenfor senteret kl 11:45 og gå samlet til Sukkerbiten. \nKun Nok. Oslo sine brukere vil være i denne badstuen. De fleste som tar badstue på Sukkerbiten har på seg badetøy og sitter på et håndkle. Om du ønsker kan du også ha håndkleet rundt deg eller en trøye over badetøyet. \nDet er tilgang på enkel utedusj og enkle unisexgarderober for skifting av klær. Noen av badstuene har også et eget skifterom som vi kan bruke. Låsbare skap er tilgjengelige\, men du må ta med din egen hengelås. Dette må du ha med deg: Badetøy\, vannflaske\, to håndklær (et til å sitte på i badstuen og et til tørk og skifting). Det kan være lurt å ha badetøy under klærne når man møter opp. Da får vi mer tid i selve badstuen. Det er begrenset antall plasser og påmelding etter førstemann til mølla prinsippet. \nDet vil bli badstue følgende tirsdager:\n13. januar\n3. februar\n10. mars\n14. april\n5. mai \nØnsker du å delta på badstue må du melde deg på innen fredagen uken før. Dersom du planlegger å ikke delta likevel vennligst gi oss beskjed så snart som mulig og senest innen samme frist som påmeldingen. På denne måten kan vi tilby plass til personer på ventelisten samt gjøre endringer i vår booking ved flere eller mindre påmeldte. Dersom du har spørsmål rundt tilbudet eller lurer på om dette er noe for deg\, ta kontakt på epost post@nokoslo.no eller telefon 23 31 46 50. \nNB! Vi anbefaler å sjekke kalenderen på nettsidene våre og e-posten din tett opp til gjennomføring da sted og tidspunkt for booking av badstue kan bli endret grunnet tilgjengelighet. For å bruke dette tilbudet må du være bruker av senteret og ha hatt minst en samtale med en faglig veileder. \n\n\n\nHar du spørsmål om tilbudene våre? Trenger du noen å snakke med? \nBle du utsatt for seksuelle overgrep i barndommen? Er du forelder/foresatt\, partner\, familiemedlem eller en annen viktig person i en utsatt sitt liv? Ta gjerne kontakt for samtaler og familiesamtaler på senteret\, over telefon eller digitalt på teams. \nKontakt oss på epost post@nokoslo.no eller telefon 23 31 46 50. \nVi er her.
URL:https://nokoslo.no/arrangement/badstue-10/2026-04-14/
LOCATION:Sukkerbiten\, Nylandsveien 28\, Oslo\, 0150\, Norway
CATEGORIES:Aktivitet,Arrangement
ATTACH;FMTTYPE=image/jpeg:https://nokoslo.no/wp-content/uploads/sites/7/2024/07/huum-Ruso6EXMC5U-unsplash-scaled.jpg
END:VEVENT
BEGIN:VEVENT
DTSTART;TZID=Europe/Oslo:20260414T130000
DTEND;TZID=Europe/Oslo:20260414T150000
DTSTAMP:20260425T135750
CREATED:20251205T114108Z
LAST-MODIFIED:20260324T084441Z
UID:12772-1776171600-1776178800@nokoslo.no
SUMMARY:Foreldregruppe
DESCRIPTION:Velkommen til lukket gruppe for foreldre\, foresatte og fosterforeldre  \nGruppen er for foreldre\, foresatte og fosterforeldre til utsatte unge og voksne barn. Denne våren går gruppen over seks samlinger fra kl 13:00 – 15:00. Det er faglig veileder Trude som vil lede gruppen.    \nVår erfaring er at foreldre og foresatte ønsker å møte andre i en lignende situasjon. Det kan være fint å møte andre\, dele\, få og gi hverandre råd\, oppmuntring og omsorg. Temaer i slike grupper kan være hvordan forstå og snakke med den som er utsatt\, hjelpeapparatet\, familie og nettverk\, samt sorgen over at incest eller seksuelle overgrep har skjedd.   \nDersom du er søsken\, partner\, tante\, onkel\, venninne eller venn til en som er utsatt for seksuelle overgrep før fylte 18 år\, så har vi en egen gruppe for dette også. Les mer om denne gruppen her.  \nGruppen møtes følgende tirsdager:\n13. januar\n10. februar\n10. mars\n14. april\n12. mai \nDenne gruppen er fullbooket og ikke lenger mulig å melde seg på. Ta kontakt med oss på epost post@nokoslo.no eller telefon 23 31 46 50 dersom du har spørsmål rundt tilbudet.  \n  \n\n  \nHar du spørsmål om tilbudene våre? Trenger du noen å snakke med?  \nBle du utsatt for seksuelle overgrep i barndommen? Er du forelder/foresatt\, partner\, familiemedlem eller en annen viktig person i en utsatt sitt liv? Ta gjerne kontakt for samtaler og familiesamtaler på senteret\, over telefon eller digitalt på teams.  \nKontakt oss på epost post@nokoslo.no eller telefon 23 31 46 50.  \nVi er her. 
URL:https://nokoslo.no/arrangement/foreldregruppe-5/2026-04-14/
LOCATION:Nok. Oslo\, Akersgata 1\, Oslo\, 0158\, Norge
CATEGORIES:Grupper
ATTACH;FMTTYPE=image/jpeg:https://nokoslo.no/wp-content/uploads/sites/7/2024/06/kulli-kittus-KQfxVDHGCUg-unsplash-1-scaled.jpg
END:VEVENT
BEGIN:VEVENT
DTSTART;TZID=Europe/Oslo:20260414T163000
DTEND;TZID=Europe/Oslo:20260414T200000
DTSTAMP:20260425T135750
CREATED:20251205T100234Z
LAST-MODIFIED:20251205T100234Z
UID:12649-1776184200-1776196800@nokoslo.no
SUMMARY:Temakveld for menn
DESCRIPTION:Velkommen til temakveld for menn: Når tro blir tvang – 50 år på flukt i eget liv \n\nVi inviterer til en temakveld for menn som har opplevd seksuelle overgrep i barndommen. Dette er en trygg og åpen møteplass der du kan møte andre\, få faglig påfyll og tid til refleksjon. \nDenne kvelden handler om fellesskap\, kunnskap og håp. Om hvordan tro\, skam og overgrep kan prege livet\, men også hvordan det er mulig å finne styrke og livsglede igjen. Vi vet at veien etter overgrep kan være krevende\, og at det å møte andre som forstår\, kan gjøre en stor forskjell. \nSvein Schøgren fra organisasjonen Utsatt Mann vil dele sin personlige historie. Han vokste opp med seksuelle overgrep i en kristen kontekst. En oppvekst preget av skam\, skyld og tvang. Svein forteller om hvordan dette har påvirket livet hans\, hvilke overlevelsesstrategier han utviklet\, og hvordan seinskader\, flashbacks og triggere har vært en del av hverdagen. \nHan deler også om kampen mot angst\, selvmordsforsøk og veien tilbake til livet. Hvordan finner man styrke og mestring etter slike erfaringer? Svein snakker åpent og ærlig om sin reise fra mørke til håp\, og gir et sterkt budskap om at det er mulig å leve et godt liv\, selv etter store utfordringer. \nPraktisk informasjon: \n\nTid: kl 16:30 – 18:30\, åpen samtale og spørsmål kl 18:30 – 20:00\nSted: Nok. Oslo – Akersgata 1\, Oslo\nAntall deltakere: 6 – 25 stk\nAnsatte til stede: 2 faglige veiledere fra senteret\nKrav: Åpent for alle utsatte menn som er brukere av Nok. Oslo\, tilknyttet et annet Nok.-senter eller senter mot seksuelle overgrep\n\nBli med på en kveld som gir rom for refleksjon\, fellesskap og håp. \n\nOm du ønsker du å delta\, må du sende en påmelding innen tirsdag 7. april til epost post@nokoslo.no eller telefon 23 31 46 50. Gjennomføring av samlingen forutsetter minimum 6 påmeldte deltakere. \n  \n\n  \nHar du spørsmål om tilbudene våre? Trenger du noen å snakke med?   \nBle du utsatt for seksuelle overgrep i barndommen? Er du forelder/foresatt\, partner\, familiemedlem eller en annen viktig person i en utsatt sitt liv? Ta gjerne kontakt for samtaler og familiesamtaler på senteret\, over telefon eller digitalt på teams.   \nKontakt oss på epost post@nokoslo.no eller telefon 23 31 46 50.   \nVi er her. 
URL:https://nokoslo.no/arrangement/temakveld-for-menn/
LOCATION:Nok. Oslo\, Akersgata 1\, Oslo\, 0158\, Norge
ATTACH;FMTTYPE=image/png:https://nokoslo.no/wp-content/uploads/sites/7/2025/12/Temakveld-14.04.26.png
END:VEVENT
END:VCALENDAR