BEGIN:VCALENDAR
VERSION:2.0
PRODID:-//Nok. Oslo - ECPv6.15.20//NONSGML v1.0//EN
CALSCALE:GREGORIAN
METHOD:PUBLISH
X-WR-CALNAME:Nok. Oslo
X-ORIGINAL-URL:https://nokoslo.no
X-WR-CALDESC:Arrangement for Nok. Oslo
REFRESH-INTERVAL;VALUE=DURATION:PT1H
X-Robots-Tag:noindex
X-PUBLISHED-TTL:PT1H
BEGIN:VTIMEZONE
TZID:Europe/Oslo
BEGIN:DAYLIGHT
TZOFFSETFROM:+0100
TZOFFSETTO:+0200
TZNAME:CEST
DTSTART:20250330T010000
END:DAYLIGHT
BEGIN:STANDARD
TZOFFSETFROM:+0200
TZOFFSETTO:+0100
TZNAME:CET
DTSTART:20251026T010000
END:STANDARD
BEGIN:DAYLIGHT
TZOFFSETFROM:+0100
TZOFFSETTO:+0200
TZNAME:CEST
DTSTART:20260329T010000
END:DAYLIGHT
BEGIN:STANDARD
TZOFFSETFROM:+0200
TZOFFSETTO:+0100
TZNAME:CET
DTSTART:20261025T010000
END:STANDARD
BEGIN:DAYLIGHT
TZOFFSETFROM:+0100
TZOFFSETTO:+0200
TZNAME:CEST
DTSTART:20270328T010000
END:DAYLIGHT
BEGIN:STANDARD
TZOFFSETFROM:+0200
TZOFFSETTO:+0100
TZNAME:CET
DTSTART:20271031T010000
END:STANDARD
END:VTIMEZONE
BEGIN:VEVENT
DTSTART;TZID=Europe/Oslo:20260512T130000
DTEND;TZID=Europe/Oslo:20260512T150000
DTSTAMP:20260425T153403
CREATED:20251205T114108Z
LAST-MODIFIED:20260324T084515Z
UID:12773-1778590800-1778598000@nokoslo.no
SUMMARY:Foreldregruppe
DESCRIPTION:Velkommen til lukket gruppe for foreldre\, foresatte og fosterforeldre  \nGruppen er for foreldre\, foresatte og fosterforeldre til utsatte unge og voksne barn. Denne våren går gruppen over seks samlinger fra kl 13:00 – 15:00. Det er faglig veileder Trude som vil lede gruppen.    \nVår erfaring er at foreldre og foresatte ønsker å møte andre i en lignende situasjon. Det kan være fint å møte andre\, dele\, få og gi hverandre råd\, oppmuntring og omsorg. Temaer i slike grupper kan være hvordan forstå og snakke med den som er utsatt\, hjelpeapparatet\, familie og nettverk\, samt sorgen over at incest eller seksuelle overgrep har skjedd.   \nDersom du er søsken\, partner\, tante\, onkel\, venninne eller venn til en som er utsatt for seksuelle overgrep før fylte 18 år\, så har vi en egen gruppe for dette også. Les mer om denne gruppen her.  \nGruppen møtes følgende tirsdager:\n13. januar\n10. februar\n10. mars\n14. april\n12. mai \nDenne gruppen er fullbooket og ikke lenger mulig å melde seg på. Ta kontakt med oss på epost post@nokoslo.no eller telefon 23 31 46 50 dersom du har spørsmål rundt tilbudet.  \n  \n\n  \nHar du spørsmål om tilbudene våre? Trenger du noen å snakke med?  \nBle du utsatt for seksuelle overgrep i barndommen? Er du forelder/foresatt\, partner\, familiemedlem eller en annen viktig person i en utsatt sitt liv? Ta gjerne kontakt for samtaler og familiesamtaler på senteret\, over telefon eller digitalt på teams.  \nKontakt oss på epost post@nokoslo.no eller telefon 23 31 46 50.  \nVi er her. 
URL:https://nokoslo.no/arrangement/foreldregruppe-5/2026-05-12/
LOCATION:Nok. Oslo\, Akersgata 1\, Oslo\, 0158\, Norge
CATEGORIES:Grupper
ATTACH;FMTTYPE=image/jpeg:https://nokoslo.no/wp-content/uploads/sites/7/2024/06/kulli-kittus-KQfxVDHGCUg-unsplash-1-scaled.jpg
END:VEVENT
END:VCALENDAR