BEGIN:VCALENDAR
VERSION:2.0
PRODID:-//Nok. Oslo - ECPv6.15.20//NONSGML v1.0//EN
CALSCALE:GREGORIAN
METHOD:PUBLISH
X-ORIGINAL-URL:https://nokoslo.no
X-WR-CALDESC:Arrangement for Nok. Oslo
REFRESH-INTERVAL;VALUE=DURATION:PT1H
X-Robots-Tag:noindex
X-PUBLISHED-TTL:PT1H
BEGIN:VTIMEZONE
TZID:Europe/Oslo
BEGIN:DAYLIGHT
TZOFFSETFROM:+0100
TZOFFSETTO:+0200
TZNAME:CEST
DTSTART:20250330T010000
END:DAYLIGHT
BEGIN:STANDARD
TZOFFSETFROM:+0200
TZOFFSETTO:+0100
TZNAME:CET
DTSTART:20251026T010000
END:STANDARD
BEGIN:DAYLIGHT
TZOFFSETFROM:+0100
TZOFFSETTO:+0200
TZNAME:CEST
DTSTART:20260329T010000
END:DAYLIGHT
BEGIN:STANDARD
TZOFFSETFROM:+0200
TZOFFSETTO:+0100
TZNAME:CET
DTSTART:20261025T010000
END:STANDARD
BEGIN:DAYLIGHT
TZOFFSETFROM:+0100
TZOFFSETTO:+0200
TZNAME:CEST
DTSTART:20270328T010000
END:DAYLIGHT
BEGIN:STANDARD
TZOFFSETFROM:+0200
TZOFFSETTO:+0100
TZNAME:CET
DTSTART:20271031T010000
END:STANDARD
END:VTIMEZONE
BEGIN:VEVENT
DTSTART;TZID=Europe/Oslo:20260515T120000
DTEND;TZID=Europe/Oslo:20260515T153000
DTSTAMP:20260425T153436
CREATED:20251218T082931Z
LAST-MODIFIED:20251218T082931Z
UID:12925-1778846400-1778859000@nokoslo.no
SUMMARY:Åpent hus med 17. mai markering
DESCRIPTION:Vi feirer nasjonaldagen! \nDenne fredagen inviterer vi til åpent hus med 17. mai markering. Senteret holder åpent fra kl 12:00 og det vil bli servert kake\, is og frukt. \nØnsker du å delta på markeringen må du melde deg på innen fredag 8. mai til epost post@nokoslo.no eller telefon 23 31 46 50\, slik at vi vet antall for beregning av servering. Husk å gi beskjed om eventuelle allergier. \nVi gleder oss\, og håper å se deg. \nVarmt velkommen! \n  \n\n  \nHar du spørsmål om tilbudene våre? Trenger du noen å snakke med?  \nBle du utsatt for seksuelle overgrep i barndommen? Er du forelder/foresatt\, partner\, familiemedlem eller en annen viktig person i en utsatt sitt liv? Ta gjerne kontakt for samtaler og familiesamtaler på senteret\, over telefon eller digitalt på teams.  \nKontakt oss på epost post@nokoslo.no eller telefon 23 31 46 50.  \nVi er her. 
URL:https://nokoslo.no/arrangement/apent-hus-med-17-mai-markering-4/
LOCATION:Nok. Oslo\, Akersgata 1\, Oslo\, 0158\, Norge
ATTACH;FMTTYPE=image/png:https://nokoslo.no/wp-content/uploads/sites/7/2025/12/Oslo-Norway-Oslo-Parliament-av-Travel-Faery-fra-Getty-Images-Canva-Pro-2025.png
END:VEVENT
END:VCALENDAR