BEGIN:VCALENDAR
VERSION:2.0
PRODID:-//Nok. Oslo - ECPv6.15.20//NONSGML v1.0//EN
CALSCALE:GREGORIAN
METHOD:PUBLISH
X-WR-CALNAME:Nok. Oslo
X-ORIGINAL-URL:https://nokoslo.no
X-WR-CALDESC:Arrangement for Nok. Oslo
REFRESH-INTERVAL;VALUE=DURATION:PT1H
X-Robots-Tag:noindex
X-PUBLISHED-TTL:PT1H
BEGIN:VTIMEZONE
TZID:Europe/Oslo
BEGIN:DAYLIGHT
TZOFFSETFROM:+0100
TZOFFSETTO:+0200
TZNAME:CEST
DTSTART:20250330T010000
END:DAYLIGHT
BEGIN:STANDARD
TZOFFSETFROM:+0200
TZOFFSETTO:+0100
TZNAME:CET
DTSTART:20251026T010000
END:STANDARD
BEGIN:DAYLIGHT
TZOFFSETFROM:+0100
TZOFFSETTO:+0200
TZNAME:CEST
DTSTART:20260329T010000
END:DAYLIGHT
BEGIN:STANDARD
TZOFFSETFROM:+0200
TZOFFSETTO:+0100
TZNAME:CET
DTSTART:20261025T010000
END:STANDARD
BEGIN:DAYLIGHT
TZOFFSETFROM:+0100
TZOFFSETTO:+0200
TZNAME:CEST
DTSTART:20270328T010000
END:DAYLIGHT
BEGIN:STANDARD
TZOFFSETFROM:+0200
TZOFFSETTO:+0100
TZNAME:CET
DTSTART:20271031T010000
END:STANDARD
END:VTIMEZONE
BEGIN:VEVENT
DTSTART;TZID=Europe/Oslo:20260526T160000
DTEND;TZID=Europe/Oslo:20260526T200000
DTSTAMP:20260425T153343
CREATED:20251203T121020Z
LAST-MODIFIED:20251203T121020Z
UID:12648-1779811200-1779825600@nokoslo.no
SUMMARY:Gruppe for menn
DESCRIPTION:En av ti menn i Norge oppgir å ha blitt utsatt for seksuelle overgrep før fylte 18 år  \nLikevel er det mange som velger å ikke fortelle om det. Grunnene til dette er mange. Det kan være følelsen av skam\, opplevelsen av utilstrekkelighet eller de sosiale normene om hva maskulinitet skal være. \nNok. Oslo har et gruppetilbud for menn som er blitt utsatt for seksuelle overgrep i barndommen. Gruppen er lukket\, noe som vil si at den består av faste deltakere hvert semester. Deltakerne møtes regelmessig og dette halvåret vil gruppen samles fem tirsdager fra kl 16:00 – 19:00. Tilbudet er et trygt sted for menn der de møter andre menn i lignende livssituasjon\, og baseres på prinsippet hjelp til selvhjelp. Ansvarlige for tilbudet er faglige veiledere Martin og Ingard. \nGruppen møtes følgende tirsdager:\n13. januar\n10. februar\n17. mars\n14. april (Temakveld)\n26. mai \nØnsker du å delta i gruppen må du melde interesse innen fredag 9. januar. Vi ønsker å gjennomføre en samtale i forkant av oppstarten av gruppetilbudet. Dersom du har spørsmål rundt tilbudet eller lurer på om dette er noe for deg\, ta kontakt på epost post@nokoslo.no eller telefon 23 31 46 50. \n\n  \n\n  \nHar du spørsmål om tilbudene våre? Trenger du noen å snakke med?  \nBle du utsatt for seksuelle overgrep i barndommen? Er du forelder/foresatt\, partner\, familiemedlem eller en annen viktig person i en utsatt sitt liv? Ta gjerne kontakt for samtaler og familiesamtaler på senteret\, over telefon eller digitalt på teams.  \nKontakt oss på epost post@nokoslo.no eller telefon 23 31 46 50.  \nVi er her. 
URL:https://nokoslo.no/arrangement/gruppe-for-menn-19/2026-05-26/
LOCATION:Nok. Oslo\, Akersgata 1\, Oslo\, 0158\, Norge
CATEGORIES:Grupper
ATTACH;FMTTYPE=image/jpeg:https://nokoslo.no/wp-content/uploads/sites/7/2021/09/mann-scaled.jpg
END:VEVENT
END:VCALENDAR