BEGIN:VCALENDAR
VERSION:2.0
PRODID:-//Nok. Oslo - ECPv6.15.20//NONSGML v1.0//EN
CALSCALE:GREGORIAN
METHOD:PUBLISH
X-ORIGINAL-URL:https://nokoslo.no
X-WR-CALDESC:Arrangement for Nok. Oslo
REFRESH-INTERVAL;VALUE=DURATION:PT1H
X-Robots-Tag:noindex
X-PUBLISHED-TTL:PT1H
BEGIN:VTIMEZONE
TZID:Europe/Oslo
BEGIN:DAYLIGHT
TZOFFSETFROM:+0100
TZOFFSETTO:+0200
TZNAME:CEST
DTSTART:20250330T010000
END:DAYLIGHT
BEGIN:STANDARD
TZOFFSETFROM:+0200
TZOFFSETTO:+0100
TZNAME:CET
DTSTART:20251026T010000
END:STANDARD
BEGIN:DAYLIGHT
TZOFFSETFROM:+0100
TZOFFSETTO:+0200
TZNAME:CEST
DTSTART:20260329T010000
END:DAYLIGHT
BEGIN:STANDARD
TZOFFSETFROM:+0200
TZOFFSETTO:+0100
TZNAME:CET
DTSTART:20261025T010000
END:STANDARD
BEGIN:DAYLIGHT
TZOFFSETFROM:+0100
TZOFFSETTO:+0200
TZNAME:CEST
DTSTART:20270328T010000
END:DAYLIGHT
BEGIN:STANDARD
TZOFFSETFROM:+0200
TZOFFSETTO:+0100
TZNAME:CET
DTSTART:20271031T010000
END:STANDARD
END:VTIMEZONE
BEGIN:VEVENT
DTSTART;TZID=Europe/Oslo:20260727T113000
DTEND;TZID=Europe/Oslo:20260727T150000
DTSTAMP:20260425T222300
CREATED:20251205T133909Z
LAST-MODIFIED:20251205T133909Z
UID:12728-1785151800-1785164400@nokoslo.no
SUMMARY:Padling på Nøklevann
DESCRIPTION:Bli med på padletur i perioden vår\, sommer og høst 2026 \nPadling for sesongen vil finne sted hver mandag fra kl 11:30 – 15:00. Dato for oppstart er mandag 18. mai. Siste dag for sesongen blir mandag 5. oktober. Tilbudet er til alle våre brukere. \nAlle er hjertelig velkomne\, med eller uten tidligere erfaring med padling. \nOppmøte på Nøklevann Ro- og Padleklubb. Klubben ligger like ved Rustadsaga Sportsstue. Dersom du kjører kan du parkere ved den store parkeringsplassen ved Skullerud Skole. Om du tar offentlig transport kan du bruke t-bane eller buss. T-bane: Bane 3 mot Skullerud. Gå av på Bogerud stasjon og gå derfra til Nøklevann\, det vil ta ca. 10–15 min å gå. Buss: Nr. 76 og 79. Gå av på holdeplass Bogerud eller Welding Olsens vei\, ved Skullerud Skole. \nEr du ny eller ønsker noen å gå sammen med? Ta kontakt med Nok. Oslo i god tid\, så kan vi møtes på Bogerud T-banestasjon. \nPraktisk informasjon: \n\nDet er viktig å ha på seg klær som holder deg varm\, samtidig som de tåler å bli våte. Bruk ull tidlig og sent i sesongen\, samt hansker og lue.\nDet anbefales å ha med seg skiftetøy\, håndkle\, kanskje badetøy\, ekstra sko (ikke tunge sko/støvler når du er på vannet)\, ullklær\, lue\, hansker og jakke. Det er kaldt å dra hjem i vått tøy!\nVarme klær til etter padlingen. Lett å bli kald når en har padlet seg varm\, da er en varm jakke/genser lurt å ha med.\nFor de som vil\, samles vi til felles stund ute med medbragt mat og drikke etter padleturen.\nVi vil også minne dere på at dere er med på eget ansvar. Av sikkerhetshensyn er det en forutsetning at du er svømmedyktig for å kunne være med.  Ingen får padle alene.\nDet er viktig er at du møter presis kl. 11:30 og ikke senere\, da det forsinker hele gruppen. Det kan selvfølgelig være gode grunner til at noen blir forsinket og da er det fint at du sier ifra om det.\nDet vil som hovedregel være en ansatt fra senteret tilstede\, men ikke alltid.\n\nDette fantastiske tilbudet er gitt til oss fra Nøklevann Ro- og Padleklubb. \nIngen påmelding – bare møt opp. Dersom du har spørsmål rundt tilbudet eller lurer på om dette er noe for deg\, ta kontakt på epost post@nokoslo.no eller telefon 23 31 46 50.  \n  \n\n  \nHar du spørsmål om tilbudene våre? Trenger du noen å snakke med?  \nBle du utsatt for seksuelle overgrep i barndommen? Er du forelder/foresatt\, partner\, familiemedlem eller en annen viktig person i en utsatt sitt liv? Ta gjerne kontakt for samtaler og familiesamtaler på senteret\, over telefon eller digitalt på teams.  \nKontakt oss på epost post@nokoslo.no eller telefon 23 31 46 50.  \nVi er her. 
URL:https://nokoslo.no/arrangement/padling-pa-noklevann-26/2026-07-27/
LOCATION:Nøklevann ro- og padleklubb\, Rustadsaga 820\, Oslo\, 0693\, Norge
ATTACH;FMTTYPE=image/jpeg:https://nokoslo.no/wp-content/uploads/sites/7/2025/03/4.jpg
GEO:59.873767177233;10.857620926573
X-APPLE-STRUCTURED-LOCATION;VALUE=URI;X-ADDRESS=Nøklevann ro- og padleklubb Rustadsaga 820 Oslo 0693 Norge;X-APPLE-RADIUS=500;X-TITLE=Rustadsaga 820:geo:10.857620926573,59.873767177233
END:VEVENT
END:VCALENDAR