BEGIN:VCALENDAR
VERSION:2.0
PRODID:-//Nok. Oslo - ECPv6.15.20//NONSGML v1.0//EN
CALSCALE:GREGORIAN
METHOD:PUBLISH
X-WR-CALNAME:Nok. Oslo
X-ORIGINAL-URL:https://nokoslo.no
X-WR-CALDESC:Arrangement for Nok. Oslo
REFRESH-INTERVAL;VALUE=DURATION:PT1H
X-Robots-Tag:noindex
X-PUBLISHED-TTL:PT1H
BEGIN:VTIMEZONE
TZID:Europe/Oslo
BEGIN:DAYLIGHT
TZOFFSETFROM:+0100
TZOFFSETTO:+0200
TZNAME:CEST
DTSTART:20240331T010000
END:DAYLIGHT
BEGIN:STANDARD
TZOFFSETFROM:+0200
TZOFFSETTO:+0100
TZNAME:CET
DTSTART:20241027T010000
END:STANDARD
BEGIN:DAYLIGHT
TZOFFSETFROM:+0100
TZOFFSETTO:+0200
TZNAME:CEST
DTSTART:20250330T010000
END:DAYLIGHT
BEGIN:STANDARD
TZOFFSETFROM:+0200
TZOFFSETTO:+0100
TZNAME:CET
DTSTART:20251026T010000
END:STANDARD
BEGIN:DAYLIGHT
TZOFFSETFROM:+0100
TZOFFSETTO:+0200
TZNAME:CEST
DTSTART:20260329T010000
END:DAYLIGHT
BEGIN:STANDARD
TZOFFSETFROM:+0200
TZOFFSETTO:+0100
TZNAME:CET
DTSTART:20261025T010000
END:STANDARD
END:VTIMEZONE
BEGIN:VEVENT
DTSTART;TZID=Europe/Oslo:20251010T100000
DTEND;TZID=Europe/Oslo:20251010T140000
DTSTAMP:20260425T190435
CREATED:20250613T101117Z
LAST-MODIFIED:20251009T134434Z
UID:12262-1760090400-1760104800@nokoslo.no
SUMMARY:Verdensdagen for psykisk helse: Åpen dag
DESCRIPTION:Tema 2025: Vi trenger å styrke vår psykiske beredskap \nI anledning verdensdagen for psykisk helse inviterer vi til åpen dag på senteret! Vi inviterer deg som allerede benytter deg av tilbud på senteret\, deg som er nysgjerrig på våre tilbud\, samarbeidspartnere\, politikere og alle som ønsker\, til å komme innom oss denne dagen for bli bedre kjent med oss\, hvem vi er og hva vi tilbyr – enten for deg selv eller noen du møter privat eller i arbeidslivet. \n\nÅrets kampanje inviterer til en felles innsats for å styrke vår psykiske motstandskraft i møte med en uforutsigbar morgendag. Psykisk beredskap handler om hvordan vi håndterer krise\, endringer og langvarig belastning\, både som enkeltmennesker og samfunn. Målet med årets kampanje er å øke bevisstheten om hva som gjør oss mer robuste\, og inspirere til konkrete tiltak i arbeidslivet\, skolen\, nærmiljøet og hverdagen.  \n\n\nVi på Nok. Oslo jobber etter hjelp til selvhjelp\, som bygger på ideen om at alle mennesker har ressurser som kan aktiveres og mobiliseres når vi møter utfordringer som gjør livet vanskelig. Av og til kan det være vanskelig å få tak på disse\, og veiledning og støtte kan bidra til å hente dem frem. Vi tilrettelegger for fellesskap på senteret som bygger på gjensidig støtte og solidaritet mellom brukere\, og vi har troen på at dette kan bidra positivt i å styrke vår psykiske motstandskraft. Enten om dette er å delta på våre sosialfaglige aktiviteter\, grupper eller i samtale med faglig veileder. \nDørene åpner for alle besøkende kl 10:00 og avsluttes kl 14:00. Besøkende kan selv velge å komme innom for et kort besøk eller bli værende over tid. Kl 12:00 vil det være en presentasjon av senterets arbeid og tilbud. \nSe Facebook arrangement her.\nMeld deg på via Forms her. \n\n\nVelkommen til åpen dag på Nok. Oslo! \n\n  \n\n  \nVi gjør oppmerksom på at det ikke er vanlig åpent hus denne dagen og at telefonlinjen er stengt. \nVi minner om at du alltid kan kontakte Hjelpetelefonen for seksuelt misbrukte. Dette er en døgnåpen telefon for deg som er utsatt for seksuelle overgrep og for deg som er pårørende. Du kan være anonym om du vil. Gratis å ringe: 800 57 000 \nDu kan også ringe VO-linjen. En hjelpelinje for deg som opplever vold eller overgrep i nære relasjoner. Gratis å ringe: 116 006
URL:https://nokoslo.no/arrangement/verdensdagen-for-psykisk-helse-apen-dag/
LOCATION:Nok. Oslo\, Akersgata 1\, Oslo\, 0158\, Norge
CATEGORIES:Arrangement
ATTACH;FMTTYPE=image/png:https://nokoslo.no/wp-content/uploads/sites/7/2025/06/Verdensdagen-2025-APEN-DAG.png
END:VEVENT
END:VCALENDAR