BEGIN:VCALENDAR
VERSION:2.0
PRODID:-//Nok. Oslo - ECPv6.15.20//NONSGML v1.0//EN
CALSCALE:GREGORIAN
METHOD:PUBLISH
X-ORIGINAL-URL:https://nokoslo.no
X-WR-CALDESC:Arrangement for Nok. Oslo
REFRESH-INTERVAL;VALUE=DURATION:PT1H
X-Robots-Tag:noindex
X-PUBLISHED-TTL:PT1H
BEGIN:VTIMEZONE
TZID:Europe/Oslo
BEGIN:DAYLIGHT
TZOFFSETFROM:+0100
TZOFFSETTO:+0200
TZNAME:CEST
DTSTART:20240331T010000
END:DAYLIGHT
BEGIN:STANDARD
TZOFFSETFROM:+0200
TZOFFSETTO:+0100
TZNAME:CET
DTSTART:20241027T010000
END:STANDARD
BEGIN:DAYLIGHT
TZOFFSETFROM:+0100
TZOFFSETTO:+0200
TZNAME:CEST
DTSTART:20250330T010000
END:DAYLIGHT
BEGIN:STANDARD
TZOFFSETFROM:+0200
TZOFFSETTO:+0100
TZNAME:CET
DTSTART:20251026T010000
END:STANDARD
BEGIN:DAYLIGHT
TZOFFSETFROM:+0100
TZOFFSETTO:+0200
TZNAME:CEST
DTSTART:20260329T010000
END:DAYLIGHT
BEGIN:STANDARD
TZOFFSETFROM:+0200
TZOFFSETTO:+0100
TZNAME:CET
DTSTART:20261025T010000
END:STANDARD
END:VTIMEZONE
BEGIN:VEVENT
DTSTART;TZID=Europe/Oslo:20251107T120000
DTEND;TZID=Europe/Oslo:20251107T153000
DTSTAMP:20260425T223436
CREATED:20250612T100348Z
LAST-MODIFIED:20251031T104910Z
UID:12258-1762516800-1762529400@nokoslo.no
SUMMARY:Fagdag for verdighet
DESCRIPTION:Bli med på fagdag for verdighet: «Pust som livskraft» \nFagdag for verdighet er et samarbeid mellom flere senter og organisasjoner som har spesialisert seg på å møte mennesker som har erfart ulike former for seksuelle overgrep. Nok. Oslo er medarrangør sammen med SSMM\, VAKE\, Dixi\, Kirkens Bymisjon og Oslo domkirke\, og vi inviterer til å bli med på fagdag for verdighet i Krypten i Oslo domkirke. Dette erstatter Åpent hus denne fredagen. \nTemaet for årets fagdag er «Pust som livskraft». Lege\, forfatter og musiker\, Audun Myskja\, skal holde foredrag. Gjennom dagen får vi musikalske mellomspill ved Anders Rogg. Rogg og Myskja har tidligere samarbeidet og gitt ut blant annet albumet «Videre – Toner til refleksjon og avspenning». \nDet er gratis å delta\, men av hensyn til matservering ønsker vi at du melder deg på dersom du vil delta. Påmelding skjer ved å sende en e-post til vs963@kirken.no. Meld fra om du har matintoleranse og/eller allergier. Sted: Krypten i Oslo domkirke (inngang fra sørsiden mot Karl Johan) \nSe her for Facebook arrangement. \n  \n\n  \nVi gjør oppmerksom på at det ikke er vanlig åpent hus denne dagen og at telefonlinjen er stengt. \nVi minner om at du alltid kan kontakte Hjelpetelefonen for seksuelt misbrukte. Dette er en døgnåpen telefon for deg som er utsatt for seksuelle overgrep og for deg som er pårørende. Du kan være anonym om du vil. Gratis å ringe: 800 57 000 \nDu kan også ringe VO-linjen. En hjelpelinje for deg som opplever vold eller overgrep i nære relasjoner. Gratis å ringe: 116 006
URL:https://nokoslo.no/arrangement/fagdag-for-verdighet/
LOCATION:Oslo domkirke\, Karl Johans gt. 11\, Oslo\, Oslo\, 0154\, Norway
CATEGORIES:Arrangement
ATTACH;FMTTYPE=image/jpeg:https://nokoslo.no/wp-content/uploads/sites/7/2025/06/560201230_1390718736390588_4236499105880237136_n.jpg
END:VEVENT
END:VCALENDAR