BEGIN:VCALENDAR
VERSION:2.0
PRODID:-//Nok. Oslo - ECPv6.15.20//NONSGML v1.0//EN
CALSCALE:GREGORIAN
METHOD:PUBLISH
X-ORIGINAL-URL:https://nokoslo.no
X-WR-CALDESC:Arrangement for Nok. Oslo
REFRESH-INTERVAL;VALUE=DURATION:PT1H
X-Robots-Tag:noindex
X-PUBLISHED-TTL:PT1H
BEGIN:VTIMEZONE
TZID:Europe/Oslo
BEGIN:DAYLIGHT
TZOFFSETFROM:+0100
TZOFFSETTO:+0200
TZNAME:CEST
DTSTART:20240331T010000
END:DAYLIGHT
BEGIN:STANDARD
TZOFFSETFROM:+0200
TZOFFSETTO:+0100
TZNAME:CET
DTSTART:20241027T010000
END:STANDARD
BEGIN:DAYLIGHT
TZOFFSETFROM:+0100
TZOFFSETTO:+0200
TZNAME:CEST
DTSTART:20250330T010000
END:DAYLIGHT
BEGIN:STANDARD
TZOFFSETFROM:+0200
TZOFFSETTO:+0100
TZNAME:CET
DTSTART:20251026T010000
END:STANDARD
BEGIN:DAYLIGHT
TZOFFSETFROM:+0100
TZOFFSETTO:+0200
TZNAME:CEST
DTSTART:20260329T010000
END:DAYLIGHT
BEGIN:STANDARD
TZOFFSETFROM:+0200
TZOFFSETTO:+0100
TZNAME:CET
DTSTART:20261025T010000
END:STANDARD
END:VTIMEZONE
BEGIN:VEVENT
DTSTART;TZID=Europe/Oslo:20251201T110000
DTEND;TZID=Europe/Oslo:20251201T140000
DTSTAMP:20260425T190850
CREATED:20251119T084448Z
LAST-MODIFIED:20251119T084448Z
UID:12530-1764586800-1764597600@nokoslo.no
SUMMARY:Juleverksted: lag julekrans
DESCRIPTION:Bli med å lag personlig julekrans med naturpreg  \nMandag 1. desember kl 11:00 inviterer vi til juleverksted der vi lager våre egne kranser av gran\, grønt og mose. Vi har satt av tid frem til kl 14:00 og ser hvor lang tid vi bruker. Vi stiller med materialer og pynt\, men du kan sette ditt eget preg på den ved å ta med det du finner ute av kongler\, mose\, kvister eller annet grønt og pynt du selv liker.  \nPraktikant Shadan\, som tidligere har jobbet som blomsterdekoratør\, er ansvarlig for arrangementet. Det er kun plass til seks deltakere så meld deg på allerede i dag\, før det blir fullbooket!  \nVi håper du ønsker å bli med på en rolig og kreativ stund med duft av gran og ekte julestemning.  \nØnsker du å delta på juleverkstedet må du melde deg på innen mandag 24. november.  Dersom du har spørsmål rundt tilbudet eller lurer på om dette er noe for deg\, ta kontakt på epost post@nokoslo.no eller telefon 23 31 46 50.  \n  \n\n  \nHar du spørsmål om tilbudene våre? Trenger du noen å snakke med?  \nBle du utsatt for seksuelle overgrep i barndommen? Er du forelder/foresatt\, partner\, familiemedlem eller en annen viktig person i en utsatt sitt liv? Ta gjerne kontakt for samtaler og familiesamtaler på senteret\, over telefon eller digitalt på teams.  \nKontakt oss på epost post@nokoslo.no eller telefon 23 31 46 50.  \nVi er her. 
URL:https://nokoslo.no/arrangement/juleverksted-lag-julekrans/
LOCATION:Nok. Oslo\, Akersgata 1\, Oslo\, 0158\, Norge
CATEGORIES:Arrangement
ATTACH;FMTTYPE=image/jpeg:https://nokoslo.no/wp-content/uploads/sites/7/2025/11/erwan-hesry-e9jV1ZyrOmg-unsplash-scaled.jpg
END:VEVENT
END:VCALENDAR