BEGIN:VCALENDAR
VERSION:2.0
PRODID:-//Nok. Oslo - ECPv6.15.20//NONSGML v1.0//EN
CALSCALE:GREGORIAN
METHOD:PUBLISH
X-WR-CALNAME:Nok. Oslo
X-ORIGINAL-URL:https://nokoslo.no
X-WR-CALDESC:Arrangement for Nok. Oslo
REFRESH-INTERVAL;VALUE=DURATION:PT1H
X-Robots-Tag:noindex
X-PUBLISHED-TTL:PT1H
BEGIN:VTIMEZONE
TZID:Europe/Oslo
BEGIN:DAYLIGHT
TZOFFSETFROM:+0100
TZOFFSETTO:+0200
TZNAME:CEST
DTSTART:20240331T010000
END:DAYLIGHT
BEGIN:STANDARD
TZOFFSETFROM:+0200
TZOFFSETTO:+0100
TZNAME:CET
DTSTART:20241027T010000
END:STANDARD
BEGIN:DAYLIGHT
TZOFFSETFROM:+0100
TZOFFSETTO:+0200
TZNAME:CEST
DTSTART:20250330T010000
END:DAYLIGHT
BEGIN:STANDARD
TZOFFSETFROM:+0200
TZOFFSETTO:+0100
TZNAME:CET
DTSTART:20251026T010000
END:STANDARD
BEGIN:DAYLIGHT
TZOFFSETFROM:+0100
TZOFFSETTO:+0200
TZNAME:CEST
DTSTART:20260329T010000
END:DAYLIGHT
BEGIN:STANDARD
TZOFFSETFROM:+0200
TZOFFSETTO:+0100
TZNAME:CET
DTSTART:20261025T010000
END:STANDARD
END:VTIMEZONE
BEGIN:VEVENT
DTSTART;TZID=Europe/Oslo:20251215T170000
DTEND;TZID=Europe/Oslo:20251215T203000
DTSTAMP:20260425T184635
CREATED:20250606T110203Z
LAST-MODIFIED:20251003T111402Z
UID:12156-1765818000-1765830600@nokoslo.no
SUMMARY:Julebord
DESCRIPTION:Velkommen til julebord \nMandag 15. desember ønsker vi velkommen til julebord for alle brukere\, både utsatt og pårørende. Arrangementet varer fra kl 17:00 til 20:30. Vi spiser julemiddag og dessert\, og kanskje blir det en pakke også. Vi minner om at det ikke inntas alkohol på arrangementer ved Nok. Oslo. \nDu er velkommen på julebordet både alene og sammen med andre. Julebordet har en maksgrense på 25 deltakere og det er «førstemann til mølla»-prinsippet. Vi setter opp venteliste. \nØnsker du å delta på julebordet må du melde deg på innen torsdag 4. desember til epost post@nokoslo.no eller telefon 23 31 46 50.   \nI påmeldingen oppgir du også hva du ønsker å spise: juletallerken med ribbe\, pinnekjøtt eller vegetar. Husk å gi beskjed om eventuelle allergier. Gi oss også gjerne beskjed om du ønsker å lese et dikt\, synge eller bidra med noe annet. \nVi håper du har mulighet til å komme. Varmt velkommen! \nHilsen fra oss alle i Nok. Oslo \n  \n\n  \nHar du spørsmål om tilbudene våre? Trenger du noen å snakke med?  \nBle du utsatt for seksuelle overgrep i barndommen? Er du forelder/foresatt\, partner\, familiemedlem eller en annen viktig person i en utsatt sitt liv? Ta gjerne kontakt for samtaler og familiesamtaler på senteret\, over telefon eller digitalt på teams.  \nKontakt oss på epost post@nokoslo.no eller telefon 23 31 46 50.  \nVi er her. 
URL:https://nokoslo.no/arrangement/julebord-5/
LOCATION:Nok. Oslo\, Akersgata 1\, Oslo\, 0158\, Norge
CATEGORIES:Arrangement
ATTACH;FMTTYPE=image/jpeg:https://nokoslo.no/wp-content/uploads/sites/7/2024/07/mel-poole-LUPXhXj2ip0-unsplash-scaled.jpg
END:VEVENT
END:VCALENDAR