BEGIN:VCALENDAR
VERSION:2.0
PRODID:-//Nok. Oslo - ECPv6.15.20//NONSGML v1.0//EN
CALSCALE:GREGORIAN
METHOD:PUBLISH
X-WR-CALNAME:Nok. Oslo
X-ORIGINAL-URL:https://nokoslo.no
X-WR-CALDESC:Arrangement for Nok. Oslo
REFRESH-INTERVAL;VALUE=DURATION:PT1H
X-Robots-Tag:noindex
X-PUBLISHED-TTL:PT1H
BEGIN:VTIMEZONE
TZID:Europe/Oslo
BEGIN:DAYLIGHT
TZOFFSETFROM:+0100
TZOFFSETTO:+0200
TZNAME:CEST
DTSTART:20250330T010000
END:DAYLIGHT
BEGIN:STANDARD
TZOFFSETFROM:+0200
TZOFFSETTO:+0100
TZNAME:CET
DTSTART:20251026T010000
END:STANDARD
BEGIN:DAYLIGHT
TZOFFSETFROM:+0100
TZOFFSETTO:+0200
TZNAME:CEST
DTSTART:20260329T010000
END:DAYLIGHT
BEGIN:STANDARD
TZOFFSETFROM:+0200
TZOFFSETTO:+0100
TZNAME:CET
DTSTART:20261025T010000
END:STANDARD
BEGIN:DAYLIGHT
TZOFFSETFROM:+0100
TZOFFSETTO:+0200
TZNAME:CEST
DTSTART:20270328T010000
END:DAYLIGHT
BEGIN:STANDARD
TZOFFSETFROM:+0200
TZOFFSETTO:+0100
TZNAME:CET
DTSTART:20271031T010000
END:STANDARD
END:VTIMEZONE
BEGIN:VEVENT
DTSTART;TZID=Europe/Oslo:20260119T130000
DTEND;TZID=Europe/Oslo:20260119T200000
DTSTAMP:20260425T140141
CREATED:20251201T104232Z
LAST-MODIFIED:20251216T125737Z
UID:12589-1768827600-1768852800@nokoslo.no
SUMMARY:Åpent hus med pizzakveld
DESCRIPTION:Velkommen til pizzakveld \nVi inviterer til en hyggelig og uformell ettermiddag med pizza\, brus og saft. Vi serverer pizza fra kl 17:00 og avslutter kvelden til vanlig åpent hus-tid kl 20:00.  \nÅpent hus er en mulighet for sosialt fellesskap med andre brukere\, enten du ble utsatt for overgrep i barndommen eller er pårørende til en som ble utsatt. Åpent hus en arena hvor du kan treffe andre i en liknende situasjon som deg\, for erfaringsutveksling og håp. Her møter du gjensidig hjelp og støtte. På åpent hus snakker vi ikke om overgrep i detalj. Ved behov kan dette gjøres i samtale med en faglig veileder på et senere tidspunkt. Er du ny\, eller er det lenge siden du var innom senteret\, så viser vi deg gjerne rundt!   \nØnsker du å delta på pizzakvelden må du melde deg på og gi beskjed om eventuelle allergier/matbehov innen fredag 16. januar.  Dersom du har spørsmål rundt tilbudet eller lurer på om dette er noe for deg\, ta kontakt på epost post@nokoslo.no eller telefon 23 31 46 50.    \n  \n\n  \nHar du spørsmål om tilbudene våre? Trenger du noen å snakke med?  \nBle du utsatt for seksuelle overgrep i barndommen? Er du forelder/foresatt\, partner\, familiemedlem eller en annen viktig person i en utsatt sitt liv? Ta gjerne kontakt for samtaler og familiesamtaler på senteret\, over telefon eller digitalt på teams.  \nKontakt oss på epost post@nokoslo.no eller telefon 23 31 46 50.  \nVi er her. 
URL:https://nokoslo.no/arrangement/apent-hus-med-pizzakveld-4/
LOCATION:Nok. Oslo\, Akersgata 1\, Oslo\, 0158\, Norge
CATEGORIES:Åpent hus,Arrangement
ATTACH;FMTTYPE=image/jpeg:https://nokoslo.no/wp-content/uploads/sites/7/2023/05/pizza.jpg
END:VEVENT
END:VCALENDAR