BEGIN:VCALENDAR
VERSION:2.0
PRODID:-//Nok. Oslo - ECPv6.15.20//NONSGML v1.0//EN
CALSCALE:GREGORIAN
METHOD:PUBLISH
X-ORIGINAL-URL:https://nokoslo.no
X-WR-CALDESC:Arrangement for Nok. Oslo
REFRESH-INTERVAL;VALUE=DURATION:PT1H
X-Robots-Tag:noindex
X-PUBLISHED-TTL:PT1H
BEGIN:VTIMEZONE
TZID:Europe/Oslo
BEGIN:DAYLIGHT
TZOFFSETFROM:+0100
TZOFFSETTO:+0200
TZNAME:CEST
DTSTART:20250330T010000
END:DAYLIGHT
BEGIN:STANDARD
TZOFFSETFROM:+0200
TZOFFSETTO:+0100
TZNAME:CET
DTSTART:20251026T010000
END:STANDARD
BEGIN:DAYLIGHT
TZOFFSETFROM:+0100
TZOFFSETTO:+0200
TZNAME:CEST
DTSTART:20260329T010000
END:DAYLIGHT
BEGIN:STANDARD
TZOFFSETFROM:+0200
TZOFFSETTO:+0100
TZNAME:CET
DTSTART:20261025T010000
END:STANDARD
BEGIN:DAYLIGHT
TZOFFSETFROM:+0100
TZOFFSETTO:+0200
TZNAME:CEST
DTSTART:20270328T010000
END:DAYLIGHT
BEGIN:STANDARD
TZOFFSETFROM:+0200
TZOFFSETTO:+0100
TZNAME:CET
DTSTART:20271031T010000
END:STANDARD
END:VTIMEZONE
BEGIN:VEVENT
DTSTART;TZID=Europe/Oslo:20260122T120000
DTEND;TZID=Europe/Oslo:20260122T140000
DTSTAMP:20260425T154927
CREATED:20251205T151738Z
LAST-MODIFIED:20251205T151815Z
UID:12711-1769083200-1769090400@nokoslo.no
SUMMARY:Foredrag: Hovednøkkelen til en bedre fremtid er deg
DESCRIPTION:Ønsker du endringer i livet ditt? Da kan dette foredraget være noe for deg. \n«Livet er som årstidene. Du kan ikke endre årstidene\, men du kan endre deg selv.» \nUttrykket «livet er som årstidene» brukes i foredraget som en metafor for å beskrive livets sykliske natur med oppturer og nedturer. Uttrykket antyder at akkurat som årstidene skifter fra vinter til vår\, sommer og høst\, går vi også i livet gjennom tilsvarende faser. Hovedideen er at selv om du ikke kan kontrollere ytre hendelser (årstidene)\, kan du tilpasse deg og vokse gjennom dem ved å endre deg selv. Det er faglig veileder Henrik som holder foredraget. \nOm du ønsker du å delta på foredraget\, må du sende en påmelding innen mandag 19. januar. Dersom du har spørsmål rundt tilbudet eller lurer på om dette er noe for deg\, ta kontakt på epost post@nokoslo.no eller telefon 23 31 46 50. \n  \n\n  \nHar du spørsmål om tilbudene våre? Trenger du noen å snakke med?   \nBle du utsatt for seksuelle overgrep i barndommen? Er du forelder/foresatt\, partner\, familiemedlem eller en annen viktig person i en utsatt sitt liv? Ta gjerne kontakt for samtaler og familiesamtaler på senteret\, over telefon eller digitalt på teams.   \nKontakt oss på epost post@nokoslo.no eller telefon 23 31 46 50.   \nVi er her. 
URL:https://nokoslo.no/arrangement/foredrag-hovednokkelen-til-en-bedre-fremtid-er-deg/
LOCATION:Nok. Oslo\, Akersgata 1\, Oslo\, 0158\, Norge
CATEGORIES:Arrangement,Informasjon
ATTACH;FMTTYPE=image/png:https://nokoslo.no/wp-content/uploads/sites/7/2025/12/3-2.png
END:VEVENT
END:VCALENDAR